BEGIN:VCALENDAR
VERSION:2.0
PRODID:-//Parroquia Santa Beatriz de Silva de Toledo - ECPv6.1.4//NONSGML v1.0//EN
CALSCALE:GREGORIAN
METHOD:PUBLISH
X-ORIGINAL-URL:https://parroquiasantabeatrizdesilva-toledo.es
X-WR-CALDESC:Eventos para Parroquia Santa Beatriz de Silva de Toledo
REFRESH-INTERVAL;VALUE=DURATION:PT1H
X-Robots-Tag:noindex
X-PUBLISHED-TTL:PT1H
BEGIN:VTIMEZONE
TZID:UTC
BEGIN:STANDARD
TZOFFSETFROM:+0000
TZOFFSETTO:+0000
TZNAME:UTC
DTSTART:20230101T000000
END:STANDARD
END:VTIMEZONE
BEGIN:VEVENT
DTSTART;TZID=UTC:20231004T080000
DTEND;TZID=UTC:20231006T170000
DTSTAMP:20260421T092230
CREATED:20231001T094943Z
LAST-MODIFIED:20231001T094943Z
UID:5794-1696406400-1696611600@parroquiasantabeatrizdesilva-toledo.es
SUMMARY:Comenzamos la Catequesis con los niños y los padres
DESCRIPTION:Del 4 al 6 de octubre Comenzamos la Catequesis con los niños y los padres
URL:https://parroquiasantabeatrizdesilva-toledo.es/evento/comenzamos-la-catequesis-con-los-ninos-y-los-padres/
LOCATION:Centro Parroquial\, Parroquia Santa Beatriz de Silva
CATEGORIES:Catequesis
ATTACH;FMTTYPE=image/png:https://parroquiasantabeatrizdesilva-toledo.es/wp-content/uploads/2020/06/catequesis.png
END:VEVENT
END:VCALENDAR