BEGIN:VCALENDAR
VERSION:2.0
PRODID:-//Parroquia Santa Beatriz de Silva de Toledo - ECPv6.1.4//NONSGML v1.0//EN
CALSCALE:GREGORIAN
METHOD:PUBLISH
X-WR-CALNAME:Parroquia Santa Beatriz de Silva de Toledo
X-ORIGINAL-URL:https://parroquiasantabeatrizdesilva-toledo.es
X-WR-CALDESC:Eventos para Parroquia Santa Beatriz de Silva de Toledo
REFRESH-INTERVAL;VALUE=DURATION:PT1H
X-Robots-Tag:noindex
X-PUBLISHED-TTL:PT1H
BEGIN:VTIMEZONE
TZID:UTC
BEGIN:STANDARD
TZOFFSETFROM:+0000
TZOFFSETTO:+0000
TZNAME:UTC
DTSTART:20240101T000000
END:STANDARD
END:VTIMEZONE
BEGIN:VEVENT
DTSTART;TZID=UTC:20241010T173000
DTEND;TZID=UTC:20241010T200000
DTSTAMP:20260420T151147
CREATED:20240929T081328Z
LAST-MODIFIED:20240929T081328Z
UID:5995-1728581400-1728590400@parroquiasantabeatrizdesilva-toledo.es
SUMMARY:Comienzo de la catequesis de primero de iniciación
DESCRIPTION:Comienzo de la catequesis de primero de iniciación cristiana (comunión).
URL:https://parroquiasantabeatrizdesilva-toledo.es/evento/comienzo-de-la-catequesis-de-primero-de-iniciacion/
LOCATION:Centro Parroquial\, Parroquia Santa Beatriz de Silva
CATEGORIES:Catequesis
ATTACH;FMTTYPE=image/png:https://parroquiasantabeatrizdesilva-toledo.es/wp-content/uploads/2020/06/catequesis.png
END:VEVENT
END:VCALENDAR