BEGIN:VCALENDAR
VERSION:2.0
PRODID:-//Parroquia Santa Beatriz de Silva de Toledo - ECPv6.1.4//NONSGML v1.0//EN
CALSCALE:GREGORIAN
METHOD:PUBLISH
X-ORIGINAL-URL:https://parroquiasantabeatrizdesilva-toledo.es
X-WR-CALDESC:Eventos para Parroquia Santa Beatriz de Silva de Toledo
REFRESH-INTERVAL;VALUE=DURATION:PT1H
X-Robots-Tag:noindex
X-PUBLISHED-TTL:PT1H
BEGIN:VTIMEZONE
TZID:UTC
BEGIN:STANDARD
TZOFFSETFROM:+0000
TZOFFSETTO:+0000
TZNAME:UTC
DTSTART:20220101T000000
END:STANDARD
END:VTIMEZONE
BEGIN:VEVENT
DTSTART;TZID=UTC:20221211T170000
DTEND;TZID=UTC:20221211T190000
DTSTAMP:20260425T114938
CREATED:20221203T090608Z
LAST-MODIFIED:20221203T090608Z
UID:5225-1670778000-1670785200@parroquiasantabeatrizdesilva-toledo.es
SUMMARY:Confirmaciones
DESCRIPTION:Confirmaciones en la Parroquia
URL:https://parroquiasantabeatrizdesilva-toledo.es/evento/confirmaciones-4/
LOCATION:Parroquia Santa Beatriz de Silva\, Avenida Madroño\, s/n\, Toledo\, Toledo\, 45005\, España
CATEGORIES:Celebraciones
ATTACH;FMTTYPE=image/jpeg:https://parroquiasantabeatrizdesilva-toledo.es/wp-content/uploads/2021/03/CONFIRMACIÓNNUEVO.jpg
END:VEVENT
BEGIN:VEVENT
DTSTART;TZID=UTC:20221217T170000
DTEND;TZID=UTC:20221217T190000
DTSTAMP:20260425T114938
CREATED:20221203T090647Z
LAST-MODIFIED:20221203T090744Z
UID:5227-1671296400-1671303600@parroquiasantabeatrizdesilva-toledo.es
SUMMARY:Confirmaciones
DESCRIPTION:Confirmaciones en la Parroquia
URL:https://parroquiasantabeatrizdesilva-toledo.es/evento/confirmaciones-5/
LOCATION:Parroquia Santa Beatriz de Silva\, Avenida Madroño\, s/n\, Toledo\, Toledo\, 45005\, España
CATEGORIES:Celebraciones
ATTACH;FMTTYPE=image/jpeg:https://parroquiasantabeatrizdesilva-toledo.es/wp-content/uploads/2021/03/CONFIRMACIÓNNUEVO.jpg
END:VEVENT
BEGIN:VEVENT
DTSTART;TZID=UTC:20221218T170000
DTEND;TZID=UTC:20221218T190000
DTSTAMP:20260425T114938
CREATED:20221203T090848Z
LAST-MODIFIED:20221203T090848Z
UID:5229-1671382800-1671390000@parroquiasantabeatrizdesilva-toledo.es
SUMMARY:Confirmaciones
DESCRIPTION:Confirmaciones en la Parroquia
URL:https://parroquiasantabeatrizdesilva-toledo.es/evento/confirmaciones-6/
LOCATION:Parroquia Santa Beatriz de Silva\, Avenida Madroño\, s/n\, Toledo\, Toledo\, 45005\, España
CATEGORIES:Celebraciones
ATTACH;FMTTYPE=image/jpeg:https://parroquiasantabeatrizdesilva-toledo.es/wp-content/uploads/2021/03/CONFIRMACIÓNNUEVO.jpg
END:VEVENT
BEGIN:VEVENT
DTSTART;TZID=UTC:20221224T000000
DTEND;TZID=UTC:20221224T010000
DTSTAMP:20260425T114938
CREATED:20221207T161128Z
LAST-MODIFIED:20221207T161128Z
UID:5240-1671840000-1671843600@parroquiasantabeatrizdesilva-toledo.es
SUMMARY:Misa en la Natividad del Señor
DESCRIPTION:12 noche. Misa en la Natividad del Señor. Al terminar\, encuentro festivo.
URL:https://parroquiasantabeatrizdesilva-toledo.es/evento/misa-la-natividad-del-senor/
LOCATION:Parroquia Santa Beatriz de Silva\, Avenida Madroño\, s/n\, Toledo\, Toledo\, 45005\, España
CATEGORIES:Celebraciones
END:VEVENT
BEGIN:VEVENT
DTSTART;TZID=UTC:20221230T200000
DTEND;TZID=UTC:20221230T213000
DTSTAMP:20260425T114938
CREATED:20221207T161332Z
LAST-MODIFIED:20221207T161332Z
UID:5242-1672430400-1672435800@parroquiasantabeatrizdesilva-toledo.es
SUMMARY:Fiesta de la Sagrada Familia
DESCRIPTION:Fiesta de la Sagrada Familia:\n20\,00.- Misa y encuentro festivo.
URL:https://parroquiasantabeatrizdesilva-toledo.es/evento/fiesta-la-sagrada-familia/
LOCATION:Parroquia Santa Beatriz de Silva\, Avenida Madroño\, s/n\, Toledo\, Toledo\, 45005\, España
CATEGORIES:Celebraciones
END:VEVENT
END:VCALENDAR