BEGIN:VCALENDAR
VERSION:2.0
PRODID:-//Parroquia Santa Beatriz de Silva de Toledo - ECPv6.1.4//NONSGML v1.0//EN
CALSCALE:GREGORIAN
METHOD:PUBLISH
X-WR-CALNAME:Parroquia Santa Beatriz de Silva de Toledo
X-ORIGINAL-URL:https://parroquiasantabeatrizdesilva-toledo.es
X-WR-CALDESC:Eventos para Parroquia Santa Beatriz de Silva de Toledo
REFRESH-INTERVAL;VALUE=DURATION:PT1H
X-Robots-Tag:noindex
X-PUBLISHED-TTL:PT1H
BEGIN:VTIMEZONE
TZID:UTC
BEGIN:STANDARD
TZOFFSETFROM:+0000
TZOFFSETTO:+0000
TZNAME:UTC
DTSTART:20240101T000000
END:STANDARD
END:VTIMEZONE
BEGIN:VEVENT
DTSTART;TZID=UTC:20240908T123000
DTEND;TZID=UTC:20240908T133000
DTSTAMP:20260423T232416
CREATED:20240905T153407Z
LAST-MODIFIED:20240905T153407Z
UID:5962-1725798600-1725802200@parroquiasantabeatrizdesilva-toledo.es
SUMMARY:Misa de acción de gracias por D. Pio  Santiago Amar
DESCRIPTION:Misa de acción de gracias por D. Pio Santiago Amar
URL:https://parroquiasantabeatrizdesilva-toledo.es/evento/misa-de-accion-de-gracias-por-d-pio-santiago-amar/
LOCATION:Iglesia Parroquial Santa Beatriz de Silva\, Avenida Madroño\, S/N\, Toledo\, España
CATEGORIES:Celebraciones
ATTACH;FMTTYPE=image/jpeg:https://parroquiasantabeatrizdesilva-toledo.es/wp-content/uploads/2018/01/Liturgia-Eucarística.jpg
END:VEVENT
BEGIN:VEVENT
DTSTART;TZID=UTC:20240914T220000
DTEND;TZID=UTC:20240914T233000
DTSTAMP:20260423T232416
CREATED:20240905T153852Z
LAST-MODIFIED:20240913T125631Z
UID:5966-1726351200-1726356600@parroquiasantabeatrizdesilva-toledo.es
SUMMARY:Worship concierto
DESCRIPTION:Worship concierto del grupo de música 7 días.
URL:https://parroquiasantabeatrizdesilva-toledo.es/evento/worship-concierto/
LOCATION:Iglesia Parroquial Santa Beatriz de Silva\, Avenida Madroño\, S/N\, Toledo\, España
CATEGORIES:Celebraciones
ATTACH;FMTTYPE=image/jpeg:https://parroquiasantabeatrizdesilva-toledo.es/wp-content/uploads/2024/09/worship.jpeg
END:VEVENT
BEGIN:VEVENT
DTSTART;TZID=UTC:20240915T200000
DTEND;TZID=UTC:20240915T210000
DTSTAMP:20260423T232416
CREATED:20240905T154155Z
LAST-MODIFIED:20240913T125518Z
UID:5968-1726430400-1726434000@parroquiasantabeatrizdesilva-toledo.es
SUMMARY:Santa Misa de Acción de gracias 20 Aniversario
DESCRIPTION:Santa Misa de Acción de gracias 20 Aniversario\, presidida por el Excmo. y Rvdmo. Mons.  Francisco Cerro Chavez
URL:https://parroquiasantabeatrizdesilva-toledo.es/evento/santa-misa-de-accion-de-gracias-20-aniversario/
LOCATION:Iglesia Parroquial Santa Beatriz de Silva\, Avenida Madroño\, S/N\, Toledo\, España
CATEGORIES:Celebraciones
ATTACH;FMTTYPE=image/jpeg:https://parroquiasantabeatrizdesilva-toledo.es/wp-content/uploads/2024/09/cartel-20aniv.jpeg
END:VEVENT
END:VCALENDAR