BEGIN:VCALENDAR
VERSION:2.0
PRODID:-//Parroquia Santa Beatriz de Silva de Toledo - ECPv6.1.4//NONSGML v1.0//EN
CALSCALE:GREGORIAN
METHOD:PUBLISH
X-ORIGINAL-URL:https://parroquiasantabeatrizdesilva-toledo.es
X-WR-CALDESC:Eventos para Parroquia Santa Beatriz de Silva de Toledo
REFRESH-INTERVAL;VALUE=DURATION:PT1H
X-Robots-Tag:noindex
X-PUBLISHED-TTL:PT1H
BEGIN:VTIMEZONE
TZID:UTC
BEGIN:STANDARD
TZOFFSETFROM:+0000
TZOFFSETTO:+0000
TZNAME:UTC
DTSTART:20220101T000000
END:STANDARD
END:VTIMEZONE
BEGIN:VEVENT
DTSTART;TZID=UTC:20221230T200000
DTEND;TZID=UTC:20221230T213000
DTSTAMP:20260425T115548
CREATED:20221207T161332Z
LAST-MODIFIED:20221207T161332Z
UID:5242-1672430400-1672435800@parroquiasantabeatrizdesilva-toledo.es
SUMMARY:Fiesta de la Sagrada Familia
DESCRIPTION:Fiesta de la Sagrada Familia:\n20\,00.- Misa y encuentro festivo.
URL:https://parroquiasantabeatrizdesilva-toledo.es/evento/fiesta-la-sagrada-familia/
LOCATION:Parroquia Santa Beatriz de Silva\, Avenida Madroño\, s/n\, Toledo\, Toledo\, 45005\, España
CATEGORIES:Celebraciones
END:VEVENT
END:VCALENDAR