BEGIN:VCALENDAR
VERSION:2.0
PRODID:-//Parroquia Santa Beatriz de Silva de Toledo - ECPv6.1.4//NONSGML v1.0//EN
CALSCALE:GREGORIAN
METHOD:PUBLISH
X-ORIGINAL-URL:https://parroquiasantabeatrizdesilva-toledo.es
X-WR-CALDESC:Eventos para Parroquia Santa Beatriz de Silva de Toledo
REFRESH-INTERVAL;VALUE=DURATION:PT1H
X-Robots-Tag:noindex
X-PUBLISHED-TTL:PT1H
BEGIN:VTIMEZONE
TZID:UTC
BEGIN:STANDARD
TZOFFSETFROM:+0000
TZOFFSETTO:+0000
TZNAME:UTC
DTSTART:20230101T000000
END:STANDARD
END:VTIMEZONE
BEGIN:VEVENT
DTSTART;TZID=UTC:20230106T123000
DTEND;TZID=UTC:20230106T133000
DTSTAMP:20260425T115308
CREATED:20221207T161451Z
LAST-MODIFIED:20221207T161451Z
UID:5244-1673008200-1673011800@parroquiasantabeatrizdesilva-toledo.es
SUMMARY:Fiesta de la Epifanía del Señor
DESCRIPTION:Fiesta de la Epifanía del Señor:\n12\,30.- Misa con los Magos de Oriente
URL:https://parroquiasantabeatrizdesilva-toledo.es/evento/fiesta-la-epifania-del-senor/
LOCATION:Parroquia Santa Beatriz de Silva\, Avenida Madroño\, s/n\, Toledo\, Toledo\, 45005\, España
CATEGORIES:Celebraciones
END:VEVENT
END:VCALENDAR