BEGIN:VCALENDAR
VERSION:2.0
PRODID:-//Parroquia Santa Beatriz de Silva de Toledo - ECPv6.1.4//NONSGML v1.0//EN
CALSCALE:GREGORIAN
METHOD:PUBLISH
X-ORIGINAL-URL:https://parroquiasantabeatrizdesilva-toledo.es
X-WR-CALDESC:Eventos para Parroquia Santa Beatriz de Silva de Toledo
REFRESH-INTERVAL;VALUE=DURATION:PT1H
X-Robots-Tag:noindex
X-PUBLISHED-TTL:PT1H
BEGIN:VTIMEZONE
TZID:UTC
BEGIN:STANDARD
TZOFFSETFROM:+0000
TZOFFSETTO:+0000
TZNAME:UTC
DTSTART:20230101T000000
END:STANDARD
END:VTIMEZONE
BEGIN:VEVENT
DTSTART;TZID=UTC:20230121T173000
DTEND;TZID=UTC:20230121T183000
DTSTAMP:20260425T115439
CREATED:20230108T174706Z
LAST-MODIFIED:20230108T174706Z
UID:5374-1674322200-1674325800@parroquiasantabeatrizdesilva-toledo.es
SUMMARY:Fiesta de San Antón
DESCRIPTION:Parroquia de Santa Beatriz de Silva \nFiesta de San Antón \nBendición de los animales (mascotas…) \n\nSábado 21 de enero. A las 17\,30.\nEn el atrio de la Iglesia.\n\n  \nToledo\, 2023
URL:https://parroquiasantabeatrizdesilva-toledo.es/evento/fiesta-san-anton-2/
LOCATION:Parroquia Santa Beatriz de Silva\, Avenida Madroño\, s/n\, Toledo\, Toledo\, 45005\, España
CATEGORIES:Celebraciones
ATTACH;FMTTYPE=image/jpeg:https://parroquiasantabeatrizdesilva-toledo.es/wp-content/uploads/2023/01/San-Antón.jpg
END:VEVENT
END:VCALENDAR