BEGIN:VCALENDAR
VERSION:2.0
PRODID:-//Parroquia Santa Beatriz de Silva de Toledo - ECPv6.1.4//NONSGML v1.0//EN
CALSCALE:GREGORIAN
METHOD:PUBLISH
X-ORIGINAL-URL:https://parroquiasantabeatrizdesilva-toledo.es
X-WR-CALDESC:Eventos para Parroquia Santa Beatriz de Silva de Toledo
REFRESH-INTERVAL;VALUE=DURATION:PT1H
X-Robots-Tag:noindex
X-PUBLISHED-TTL:PT1H
BEGIN:VTIMEZONE
TZID:UTC
BEGIN:STANDARD
TZOFFSETFROM:+0000
TZOFFSETTO:+0000
TZNAME:UTC
DTSTART:20220101T000000
END:STANDARD
END:VTIMEZONE
BEGIN:VEVENT
DTSTART;TZID=UTC:20221020T173000
DTEND;TZID=UTC:20221020T173000
DTSTAMP:20260425T001437
CREATED:20221016T172332Z
LAST-MODIFIED:20221016T172332Z
UID:5191-1666287000-1666287000@parroquiasantabeatrizdesilva-toledo.es
SUMMARY:Consejo Pastoral y Económico
DESCRIPTION:
URL:https://parroquiasantabeatrizdesilva-toledo.es/evento/consejo-pastoral-economico/
LOCATION:Parroquia Santa Beatriz de Silva\, Avenida Madroño\, s/n\, Toledo\, Toledo\, 45005\, España
CATEGORIES:Reunión
ATTACH;FMTTYPE=image/jpeg:https://parroquiasantabeatrizdesilva-toledo.es/wp-content/uploads/2015/06/foto-parroquia-1.jpg
END:VEVENT
END:VCALENDAR