BEGIN:VCALENDAR
VERSION:2.0
PRODID:-//Parroquia Santa Beatriz de Silva de Toledo - ECPv6.1.4//NONSGML v1.0//EN
CALSCALE:GREGORIAN
METHOD:PUBLISH
X-WR-CALNAME:Parroquia Santa Beatriz de Silva de Toledo
X-ORIGINAL-URL:https://parroquiasantabeatrizdesilva-toledo.es
X-WR-CALDESC:Eventos para Parroquia Santa Beatriz de Silva de Toledo
REFRESH-INTERVAL;VALUE=DURATION:PT1H
X-Robots-Tag:noindex
X-PUBLISHED-TTL:PT1H
BEGIN:VTIMEZONE
TZID:UTC
BEGIN:STANDARD
TZOFFSETFROM:+0000
TZOFFSETTO:+0000
TZNAME:UTC
DTSTART:20230101T000000
END:STANDARD
END:VTIMEZONE
BEGIN:VEVENT
DTSTART;TZID=UTC:20230119T180000
DTEND;TZID=UTC:20230119T200000
DTSTAMP:20260424T191920
CREATED:20230111T111451Z
LAST-MODIFIED:20230111T111451Z
UID:5391-1674151200-1674158400@parroquiasantabeatrizdesilva-toledo.es
SUMMARY:Consejos de Pastoral y de Economía
DESCRIPTION:Consejos de Pastoral y de Economía
URL:https://parroquiasantabeatrizdesilva-toledo.es/evento/consejos-pastoral-economia/
LOCATION:Parroquia Santa Beatriz de Silva\, Avenida Madroño\, s/n\, Toledo\, Toledo\, 45005\, España
CATEGORIES:Reunión
ATTACH;FMTTYPE=image/png:https://parroquiasantabeatrizdesilva-toledo.es/wp-content/uploads/2018/01/logo-sta-beatriz_peq-1-e1515608063861.png
END:VEVENT
END:VCALENDAR