BEGIN:VCALENDAR
VERSION:2.0
PRODID:-//Parroquia Santa Beatriz de Silva de Toledo - ECPv6.1.4//NONSGML v1.0//EN
CALSCALE:GREGORIAN
METHOD:PUBLISH
X-WR-CALNAME:Parroquia Santa Beatriz de Silva de Toledo
X-ORIGINAL-URL:https://parroquiasantabeatrizdesilva-toledo.es
X-WR-CALDESC:Eventos para Parroquia Santa Beatriz de Silva de Toledo
REFRESH-INTERVAL;VALUE=DURATION:PT1H
X-Robots-Tag:noindex
X-PUBLISHED-TTL:PT1H
BEGIN:VTIMEZONE
TZID:UTC
BEGIN:STANDARD
TZOFFSETFROM:+0000
TZOFFSETTO:+0000
TZNAME:UTC
DTSTART:20230101T000000
END:STANDARD
END:VTIMEZONE
BEGIN:VEVENT
DTSTART;TZID=UTC:20231005T203000
DTEND;TZID=UTC:20231005T220000
DTSTAMP:20260424T042925
CREATED:20231001T095135Z
LAST-MODIFIED:20231001T095135Z
UID:5796-1696537800-1696543200@parroquiasantabeatrizdesilva-toledo.es
SUMMARY:Consejos Económico y Pastoral
DESCRIPTION:
URL:https://parroquiasantabeatrizdesilva-toledo.es/evento/consejos-economico-y-pastoral/
LOCATION:Centro Parroquial\, Parroquia Santa Beatriz de Silva
CATEGORIES:Reunión
ATTACH;FMTTYPE=image/jpeg:https://parroquiasantabeatrizdesilva-toledo.es/wp-content/uploads/2015/06/foto-parroquia-1.jpg
END:VEVENT
END:VCALENDAR