BEGIN:VCALENDAR
VERSION:2.0
PRODID:-//Parroquia Santa Beatriz de Silva de Toledo - ECPv6.1.4//NONSGML v1.0//EN
CALSCALE:GREGORIAN
METHOD:PUBLISH
X-WR-CALNAME:Parroquia Santa Beatriz de Silva de Toledo
X-ORIGINAL-URL:https://parroquiasantabeatrizdesilva-toledo.es
X-WR-CALDESC:Eventos para Parroquia Santa Beatriz de Silva de Toledo
REFRESH-INTERVAL;VALUE=DURATION:PT1H
X-Robots-Tag:noindex
X-PUBLISHED-TTL:PT1H
BEGIN:VTIMEZONE
TZID:UTC
BEGIN:STANDARD
TZOFFSETFROM:+0000
TZOFFSETTO:+0000
TZNAME:UTC
DTSTART:20230101T000000
END:STANDARD
END:VTIMEZONE
BEGIN:VEVENT
DTSTART;TZID=UTC:20231006T200000
DTEND;TZID=UTC:20231006T230000
DTSTAMP:20260424T042808
CREATED:20231001T095350Z
LAST-MODIFIED:20231001T095350Z
UID:5798-1696622400-1696633200@parroquiasantabeatrizdesilva-toledo.es
SUMMARY:Comenzamos el Grupo Juvenil y Grupos de Iforma
DESCRIPTION:Comenzamos el Grupo Juvenil y Grupos de Iforma
URL:https://parroquiasantabeatrizdesilva-toledo.es/evento/comenzamos-el-grupo-juvenil-y-grupos-de-iforma/
LOCATION:Centro Parroquial\, Parroquia Santa Beatriz de Silva
CATEGORIES:Oración,Reunión
ATTACH;FMTTYPE=image/gif:https://parroquiasantabeatrizdesilva-toledo.es/wp-content/uploads/2015/05/cabecera-jovenes.gif
END:VEVENT
END:VCALENDAR